Package: SpeCond Version: 1.61.0 Command: /home/biocbuild/bbs-3.21-bioc/R/bin/R CMD build --keep-empty-dirs --no-resave-data SpeCond StartedAt: 2025-02-09 19:25:07 -0500 (Sun, 09 Feb 2025) EndedAt: 2025-02-09 19:25:55 -0500 (Sun, 09 Feb 2025) EllapsedTime: 48.1 seconds RetCode: 0 Status: OK PackageFile: SpeCond_1.61.0.tar.gz PackageFileSize: 1.699 MiB