Package: SpeCond Version: 1.61.0 Command: /home/biocbuild/bbs-3.21-bioc/R/bin/R CMD INSTALL SpeCond StartedAt: 2025-02-09 15:13:45 -0500 (Sun, 09 Feb 2025) EndedAt: 2025-02-09 15:13:52 -0500 (Sun, 09 Feb 2025) EllapsedTime: 7.0 seconds RetCode: 0 Status: OK