Package: SpeCond Version: 1.61.0 Command: E:\biocbuild\bbs-3.21-bioc\R\bin\R.exe CMD INSTALL SpeCond StartedAt: 2025-02-12 15:33:06 -0500 (Wed, 12 Feb 2025) EndedAt: 2025-02-12 15:33:34 -0500 (Wed, 12 Feb 2025) EllapsedTime: 28.5 seconds RetCode: 0 Status: OK