Package: Spectra Version: 1.17.5 Command: rm -rf Spectra.buildbin-libdir && mkdir Spectra.buildbin-libdir && /Users/biocbuild/BBS/utils/build-universal.sh Spectra_1.17.5.tar.gz /Library/Frameworks/R.framework/Resources/bin/R Spectra.buildbin-libdir StartedAt: 2025-02-04 22:33:55 -0500 (Tue, 04 Feb 2025) EndedAt: 2025-02-04 22:34:02 -0500 (Tue, 04 Feb 2025) EllapsedTime: 7.2 seconds RetCode: 0 Status: OK PackageFile: Spectra_1.17.5.tgz PackageFileSize: 2.099 MiB