Package: Spectra Version: 1.17.5 Command: /Library/Frameworks/R.framework/Resources/bin/R CMD check --install=check:Spectra.install-out.txt --library=/Library/Frameworks/R.framework/Resources/library --no-vignettes --timings Spectra_1.17.5.tar.gz StartedAt: 2025-02-09 21:32:00 -0500 (Sun, 09 Feb 2025) EndedAt: 2025-02-09 21:35:07 -0500 (Sun, 09 Feb 2025) EllapsedTime: 187.1 seconds RetCode: 0 Status: OK CheckDir: Spectra.Rcheck Warnings: 0