Package: Spectra Version: 1.17.5 Command: rm -rf Spectra.buildbin-libdir && mkdir Spectra.buildbin-libdir && /Users/biocbuild/BBS/utils/build-universal.sh Spectra_1.17.5.tar.gz /Library/Frameworks/R.framework/Resources/bin/R Spectra.buildbin-libdir StartedAt: 2025-02-05 01:04:15 -0500 (Wed, 05 Feb 2025) EndedAt: 2025-02-05 01:04:39 -0500 (Wed, 05 Feb 2025) EllapsedTime: 23.3 seconds RetCode: 0 Status: OK PackageFile: Spectra_1.17.5.tgz PackageFileSize: 2.099 MiB