Package: Spectra Version: 1.17.5 Command: /home/biocbuild/bbs-3.21-bioc/R/bin/R CMD build --keep-empty-dirs --no-resave-data Spectra StartedAt: 2025-02-04 19:22:41 -0500 (Tue, 04 Feb 2025) EndedAt: 2025-02-04 19:23:35 -0500 (Tue, 04 Feb 2025) EllapsedTime: 54.1 seconds RetCode: 0 Status: OK PackageFile: Spectra_1.17.5.tar.gz PackageFileSize: 1.797 MiB