Package: Spectra Version: 1.17.5 Command: E:\biocbuild\bbs-3.21-bioc\R\bin\R.exe CMD INSTALL Spectra StartedAt: 2025-02-09 15:38:35 -0500 (Sun, 09 Feb 2025) EndedAt: 2025-02-09 15:40:28 -0500 (Sun, 09 Feb 2025) EllapsedTime: 113.1 seconds RetCode: 0 Status: OK