Package: SpectraQL Version: 1.1.0 Command: /Library/Frameworks/R.framework/Resources/bin/R CMD build --keep-empty-dirs --no-resave-data SpectraQL StartedAt: 2025-02-04 17:42:32 -0500 (Tue, 04 Feb 2025) EndedAt: 2025-02-04 17:42:41 -0500 (Tue, 04 Feb 2025) EllapsedTime: 9.1 seconds RetCode: 0 Status: OK PackageFile: SpectraQL_1.1.0.tar.gz PackageFileSize: 402.7 KiB