Package: SpectraQL Version: 1.1.0 Command: /Library/Frameworks/R.framework/Resources/bin/R CMD check --install=check:SpectraQL.install-out.txt --library=/Library/Frameworks/R.framework/Resources/library --no-vignettes --timings SpectraQL_1.1.0.tar.gz StartedAt: 2025-02-04 21:34:27 -0500 (Tue, 04 Feb 2025) EndedAt: 2025-02-04 21:35:01 -0500 (Tue, 04 Feb 2025) EllapsedTime: 34.4 seconds RetCode: 0 Status: OK CheckDir: SpectraQL.Rcheck Warnings: 0