Package: SpectraQL Version: 1.1.0 Command: /Library/Frameworks/R.framework/Resources/bin/R CMD INSTALL SpectraQL StartedAt: 2025-02-04 15:07:42 -0500 (Tue, 04 Feb 2025) EndedAt: 2025-02-04 15:07:45 -0500 (Tue, 04 Feb 2025) EllapsedTime: 3.7 seconds RetCode: 0 Status: OK