Package: SpectraQL Version: 1.1.0 Command: /home/biocbuild/R/R/bin/R CMD INSTALL SpectraQL StartedAt: 2025-01-29 19:45:38 -0000 (Wed, 29 Jan 2025) EndedAt: 2025-01-29 19:45:49 -0000 (Wed, 29 Jan 2025) EllapsedTime: 11.5 seconds RetCode: 0 Status: OK