Package: SpectraQL Version: 1.1.0 Command: /home/biocbuild/bbs-3.21-bioc/R/bin/R CMD check --install=check:SpectraQL.install-out.txt --library=/home/biocbuild/bbs-3.21-bioc/R/site-library --timings SpectraQL_1.1.0.tar.gz StartedAt: 2025-02-05 03:05:09 -0500 (Wed, 05 Feb 2025) EndedAt: 2025-02-05 03:06:42 -0500 (Wed, 05 Feb 2025) EllapsedTime: 92.1 seconds RetCode: 0 Status: OK CheckDir: SpectraQL.Rcheck Warnings: 0