Package: SpectraQL Version: 1.1.0 Command: rm -rf SpectraQL.buildbin-libdir && mkdir SpectraQL.buildbin-libdir && E:\biocbuild\bbs-3.21-bioc\R\bin\R.exe CMD INSTALL --build --library=SpectraQL.buildbin-libdir SpectraQL_1.1.0.tar.gz StartedAt: 2025-02-05 08:59:26 -0500 (Wed, 05 Feb 2025) EndedAt: 2025-02-05 08:59:49 -0500 (Wed, 05 Feb 2025) EllapsedTime: 23.0 seconds RetCode: 0 Status: OK PackageFile: SpectraQL_1.1.0.zip PackageFileSize: 378.8 KiB