Package: SpectraQL Version: 1.1.0 Command: chmod a+r SpectraQL -R && E:\biocbuild\bbs-3.21-bioc\R\bin\R.exe CMD build --keep-empty-dirs --no-resave-data SpectraQL StartedAt: 2025-02-04 21:53:02 -0500 (Tue, 04 Feb 2025) EndedAt: 2025-02-04 21:53:42 -0500 (Tue, 04 Feb 2025) EllapsedTime: 39.5 seconds RetCode: 0 Status: OK PackageFile: SpectraQL_1.1.0.tar.gz PackageFileSize: 354.1 KiB