Package: SpectraQL Version: 1.1.0 Command: E:\biocbuild\bbs-3.21-bioc\R\bin\R.exe CMD check --no-multiarch --install=check:SpectraQL.install-out.txt --library=E:\biocbuild\bbs-3.21-bioc\R\library --no-vignettes --timings SpectraQL_1.1.0.tar.gz StartedAt: 2025-02-05 06:09:52 -0500 (Wed, 05 Feb 2025) EndedAt: 2025-02-05 06:11:56 -0500 (Wed, 05 Feb 2025) EllapsedTime: 124.8 seconds RetCode: 0 Status: OK CheckDir: SpectraQL.Rcheck Warnings: 0