Package: SpectraQL Version: 1.1.0 Command: E:\biocbuild\bbs-3.21-bioc\R\bin\R.exe CMD INSTALL SpectraQL StartedAt: 2025-02-04 15:37:45 -0500 (Tue, 04 Feb 2025) EndedAt: 2025-02-04 15:38:00 -0500 (Tue, 04 Feb 2025) EllapsedTime: 15.5 seconds RetCode: 0 Status: OK