Package: SpliceWiz Version: 1.9.0 Command: /Library/Frameworks/R.framework/Resources/bin/R CMD INSTALL SpliceWiz StartedAt: 2025-02-09 15:26:41 -0500 (Sun, 09 Feb 2025) EndedAt: 2025-02-09 15:27:00 -0500 (Sun, 09 Feb 2025) EllapsedTime: 19.0 seconds RetCode: 1 Status: ERROR