Package: SpliceWiz Version: 1.9.0 Command: /home/biocbuild/R/R/bin/R CMD build --keep-empty-dirs --no-resave-data SpliceWiz StartedAt: 2025-01-28 02:41:05 -0000 (Tue, 28 Jan 2025) EndedAt: 2025-01-28 02:42:28 -0000 (Tue, 28 Jan 2025) EllapsedTime: 83.0 seconds RetCode: 1 Status: ERROR PackageFile: None PackageFileSize: NA