Package: SpliceWiz Version: 1.9.0 Command: /Library/Frameworks/R.framework/Resources/bin/R CMD INSTALL SpliceWiz StartedAt: 2025-02-09 15:41:19 -0500 (Sun, 09 Feb 2025) EndedAt: 2025-02-09 15:42:31 -0500 (Sun, 09 Feb 2025) EllapsedTime: 72.1 seconds RetCode: 1 Status: ERROR