Package: SpliceWiz Version: 1.9.0 Command: /home/biocbuild/bbs-3.21-bioc/R/bin/R CMD build --keep-empty-dirs --no-resave-data SpliceWiz StartedAt: 2025-02-03 19:34:18 -0500 (Mon, 03 Feb 2025) EndedAt: 2025-02-03 19:35:14 -0500 (Mon, 03 Feb 2025) EllapsedTime: 56.0 seconds RetCode: 1 Status: ERROR PackageFile: None PackageFileSize: NA