Package: SpliceWiz Version: 1.9.0 Command: /home/biocbuild/bbs-3.21-bioc/R/bin/R CMD INSTALL SpliceWiz StartedAt: 2025-02-03 15:43:37 -0500 (Mon, 03 Feb 2025) EndedAt: 2025-02-03 15:44:34 -0500 (Mon, 03 Feb 2025) EllapsedTime: 56.8 seconds RetCode: 1 Status: ERROR