Package: SpliceWiz Version: 1.9.0 Command: rm -rf SpliceWiz.buildbin-libdir && mkdir SpliceWiz.buildbin-libdir && E:\biocbuild\bbs-3.21-bioc\R\bin\R.exe CMD INSTALL --build --library=SpliceWiz.buildbin-libdir SpliceWiz_1.9.0.tar.gz StartedAt: 2025-01-22 08:39:51 -0500 (Wed, 22 Jan 2025) EndedAt: 2025-01-22 08:43:34 -0500 (Wed, 22 Jan 2025) EllapsedTime: 223.9 seconds RetCode: 0 Status: OK PackageFile: SpliceWiz_1.9.0.zip PackageFileSize: 5.66 MiB