Package: SpliceWiz Version: 1.9.0 Command: chmod a+r SpliceWiz -R && E:\biocbuild\bbs-3.21-bioc\R\bin\R.exe CMD build --keep-empty-dirs --no-resave-data SpliceWiz StartedAt: 2025-02-04 21:53:49 -0500 (Tue, 04 Feb 2025) EndedAt: 2025-02-04 21:55:17 -0500 (Tue, 04 Feb 2025) EllapsedTime: 88.5 seconds RetCode: 1 Status: ERROR PackageFile: None PackageFileSize: NA