############################################################################## ############################################################################## ### ### Running command: ### ### E:\biocbuild\bbs-3.21-bioc\R\bin\R.exe CMD INSTALL SpliceWiz ### ############################################################################## ############################################################################## * installing to library 'E:/biocbuild/bbs-3.21-bioc/R/library' * installing *source* package 'SpliceWiz' ... ** this is package 'SpliceWiz' version '1.9.0' ** using staged installation ** libs using C++ compiler: 'G__~1.EXE (GCC) 13.3.0' using C++11 g++ -std=gnu++11 -I"E:/biocbuild/bbs-3.21-bioc/R/include" -DNDEBUG -I'E:/biocbuild/bbs-3.21-bioc/R/library/ompBAM/include' -I'E:/biocbuild/bbs-3.21-bioc/R/library/Rcpp/include' -I'E:/biocbuild/bbs-3.21-bioc/R/library/RcppProgress/include' -I"C:/rtools44/x86_64-w64-mingw32.static.posix/include" -fopenmp -DSPLICEWIZ -O2 -Wall -mfpmath=sse -msse2 -mstackrealign -DR_NO_REMAP -c BAM2blocks.cpp -o BAM2blocks.o g++ -std=gnu++11 -I"E:/biocbuild/bbs-3.21-bioc/R/include" -DNDEBUG -I'E:/biocbuild/bbs-3.21-bioc/R/library/ompBAM/include' -I'E:/biocbuild/bbs-3.21-bioc/R/library/Rcpp/include' -I'E:/biocbuild/bbs-3.21-bioc/R/library/RcppProgress/include' -I"C:/rtools44/x86_64-w64-mingw32.static.posix/include" -fopenmp -DSPLICEWIZ -O2 -Wall -mfpmath=sse -msse2 -mstackrealign -DR_NO_REMAP -c FastaReader.cpp -o FastaReader.o g++ -std=gnu++11 -I"E:/biocbuild/bbs-3.21-bioc/R/include" -DNDEBUG -I'E:/biocbuild/bbs-3.21-bioc/R/library/ompBAM/include' -I'E:/biocbuild/bbs-3.21-bioc/R/library/Rcpp/include' -I'E:/biocbuild/bbs-3.21-bioc/R/library/RcppProgress/include' -I"C:/rtools44/x86_64-w64-mingw32.static.posix/include" -fopenmp -DSPLICEWIZ -O2 -Wall -mfpmath=sse -msse2 -mstackrealign -DR_NO_REMAP -c FragmentBlocks.cpp -o FragmentBlocks.o g++ -std=gnu++11 -I"E:/biocbuild/bbs-3.21-bioc/R/include" -DNDEBUG -I'E:/biocbuild/bbs-3.21-bioc/R/library/ompBAM/include' -I'E:/biocbuild/bbs-3.21-bioc/R/library/Rcpp/include' -I'E:/biocbuild/bbs-3.21-bioc/R/library/RcppProgress/include' -I"C:/rtools44/x86_64-w64-mingw32.static.posix/include" -fopenmp -DSPLICEWIZ -O2 -Wall -mfpmath=sse -msse2 -mstackrealign -DR_NO_REMAP -c GZTools.cpp -o GZTools.o g++ -std=gnu++11 -I"E:/biocbuild/bbs-3.21-bioc/R/include" -DNDEBUG -I'E:/biocbuild/bbs-3.21-bioc/R/library/ompBAM/include' -I'E:/biocbuild/bbs-3.21-bioc/R/library/Rcpp/include' -I'E:/biocbuild/bbs-3.21-bioc/R/library/RcppProgress/include' -I"C:/rtools44/x86_64-w64-mingw32.static.posix/include" -fopenmp -DSPLICEWIZ -O2 -Wall -mfpmath=sse -msse2 -mstackrealign -DR_NO_REMAP -c RcppExports.cpp -o RcppExports.o g++ -std=gnu++11 -I"E:/biocbuild/bbs-3.21-bioc/R/include" -DNDEBUG -I'E:/biocbuild/bbs-3.21-bioc/R/library/ompBAM/include' -I'E:/biocbuild/bbs-3.21-bioc/R/library/Rcpp/include' -I'E:/biocbuild/bbs-3.21-bioc/R/library/RcppProgress/include' -I"C:/rtools44/x86_64-w64-mingw32.static.posix/include" -fopenmp -DSPLICEWIZ -O2 -Wall -mfpmath=sse -msse2 -mstackrealign -DR_NO_REMAP -c ReadBlockProcessor.cpp -o ReadBlockProcessor.o g++ -std=gnu++11 -I"E:/biocbuild/bbs-3.21-bioc/R/include" -DNDEBUG -I'E:/biocbuild/bbs-3.21-bioc/R/library/ompBAM/include' -I'E:/biocbuild/bbs-3.21-bioc/R/library/Rcpp/include' -I'E:/biocbuild/bbs-3.21-bioc/R/library/RcppProgress/include' -I"C:/rtools44/x86_64-w64-mingw32.static.posix/include" -fopenmp -DSPLICEWIZ -O2 -Wall -mfpmath=sse -msse2 -mstackrealign -DR_NO_REMAP -c ReadBlockProcessor_CoverageBlocks.cpp -o ReadBlockProcessor_CoverageBlocks.o g++ -std=gnu++11 -I"E:/biocbuild/bbs-3.21-bioc/R/include" -DNDEBUG -I'E:/biocbuild/bbs-3.21-bioc/R/library/ompBAM/include' -I'E:/biocbuild/bbs-3.21-bioc/R/library/Rcpp/include' -I'E:/biocbuild/bbs-3.21-bioc/R/library/RcppProgress/include' -I"C:/rtools44/x86_64-w64-mingw32.static.posix/include" -fopenmp -DSPLICEWIZ -O2 -Wall -mfpmath=sse -msse2 -mstackrealign -DR_NO_REMAP -c ReadBlockProcessor_FragmentsMap.cpp -o ReadBlockProcessor_FragmentsMap.o g++ -std=gnu++11 -I"E:/biocbuild/bbs-3.21-bioc/R/include" -DNDEBUG -I'E:/biocbuild/bbs-3.21-bioc/R/library/ompBAM/include' -I'E:/biocbuild/bbs-3.21-bioc/R/library/Rcpp/include' -I'E:/biocbuild/bbs-3.21-bioc/R/library/RcppProgress/include' -I"C:/rtools44/x86_64-w64-mingw32.static.posix/include" -fopenmp -DSPLICEWIZ -O2 -Wall -mfpmath=sse -msse2 -mstackrealign -DR_NO_REMAP -c ReadBlockProcessor_TandemJunctions.cpp -o ReadBlockProcessor_TandemJunctions.o g++ -std=gnu++11 -I"E:/biocbuild/bbs-3.21-bioc/R/include" -DNDEBUG -I'E:/biocbuild/bbs-3.21-bioc/R/library/ompBAM/include' -I'E:/biocbuild/bbs-3.21-bioc/R/library/Rcpp/include' -I'E:/biocbuild/bbs-3.21-bioc/R/library/RcppProgress/include' -I"C:/rtools44/x86_64-w64-mingw32.static.posix/include" -fopenmp -DSPLICEWIZ -O2 -Wall -mfpmath=sse -msse2 -mstackrealign -DR_NO_REMAP -c covTools.cpp -o covTools.o g++ -std=gnu++11 -I"E:/biocbuild/bbs-3.21-bioc/R/include" -DNDEBUG -I'E:/biocbuild/bbs-3.21-bioc/R/library/ompBAM/include' -I'E:/biocbuild/bbs-3.21-bioc/R/library/Rcpp/include' -I'E:/biocbuild/bbs-3.21-bioc/R/library/RcppProgress/include' -I"C:/rtools44/x86_64-w64-mingw32.static.posix/include" -fopenmp -DSPLICEWIZ -O2 -Wall -mfpmath=sse -msse2 -mstackrealign -DR_NO_REMAP -c main.cpp -o main.o g++ -std=gnu++11 -I"E:/biocbuild/bbs-3.21-bioc/R/include" -DNDEBUG -I'E:/biocbuild/bbs-3.21-bioc/R/library/ompBAM/include' -I'E:/biocbuild/bbs-3.21-bioc/R/library/Rcpp/include' -I'E:/biocbuild/bbs-3.21-bioc/R/library/RcppProgress/include' -I"C:/rtools44/x86_64-w64-mingw32.static.posix/include" -fopenmp -DSPLICEWIZ -O2 -Wall -mfpmath=sse -msse2 -mstackrealign -DR_NO_REMAP -c swEngine.cpp -o swEngine.o g++ -std=gnu++11 -I"E:/biocbuild/bbs-3.21-bioc/R/include" -DNDEBUG -I'E:/biocbuild/bbs-3.21-bioc/R/library/ompBAM/include' -I'E:/biocbuild/bbs-3.21-bioc/R/library/Rcpp/include' -I'E:/biocbuild/bbs-3.21-bioc/R/library/RcppProgress/include' -I"C:/rtools44/x86_64-w64-mingw32.static.posix/include" -fopenmp -DSPLICEWIZ -O2 -Wall -mfpmath=sse -msse2 -mstackrealign -DR_NO_REMAP -c synthReadGenerator.cpp -o synthReadGenerator.o g++ -shared -s -static-libgcc -o SpliceWiz.dll tmp.def BAM2blocks.o FastaReader.o FragmentBlocks.o GZTools.o RcppExports.o ReadBlockProcessor.o ReadBlockProcessor_CoverageBlocks.o ReadBlockProcessor_FragmentsMap.o ReadBlockProcessor_TandemJunctions.o covTools.o main.o swEngine.o synthReadGenerator.o -fopenmp -lz -DSPLICEWIZ -LC:/rtools44/x86_64-w64-mingw32.static.posix/lib/x64 -LC:/rtools44/x86_64-w64-mingw32.static.posix/lib -LE:/biocbuild/bbs-3.21-bioc/R/bin/x64 -lR installing to E:/biocbuild/bbs-3.21-bioc/R/library/00LOCK-SpliceWiz/00new/SpliceWiz/libs/x64 ** R ** inst ** byte-compile and prepare package for lazy loading Error: object 'h5writeDimnames' is not exported by 'namespace:HDF5Array' Execution halted ERROR: lazy loading failed for package 'SpliceWiz' * removing 'E:/biocbuild/bbs-3.21-bioc/R/library/SpliceWiz'