Package: SpliceWiz Version: 1.9.0 Command: E:\biocbuild\bbs-3.21-bioc\R\bin\R.exe CMD INSTALL SpliceWiz StartedAt: 2025-02-04 16:48:26 -0500 (Tue, 04 Feb 2025) EndedAt: 2025-02-04 16:49:43 -0500 (Tue, 04 Feb 2025) EllapsedTime: 77.3 seconds RetCode: 1 Status: ERROR