Package: SplicingFactory Version: 1.15.0 Command: rm -rf SplicingFactory.buildbin-libdir && mkdir SplicingFactory.buildbin-libdir && /Users/biocbuild/BBS/utils/build-universal.sh SplicingFactory_1.15.0.tar.gz /Library/Frameworks/R.framework/Resources/bin/R SplicingFactory.buildbin-libdir StartedAt: 2025-02-05 22:37:06 -0500 (Wed, 05 Feb 2025) EndedAt: 2025-02-05 22:37:16 -0500 (Wed, 05 Feb 2025) EllapsedTime: 9.2 seconds RetCode: 0 Status: OK PackageFile: SplicingFactory_1.15.0.tgz PackageFileSize: 829 KiB