Package: SplicingFactory Version: 1.15.0 Command: /Library/Frameworks/R.framework/Resources/bin/R CMD check --install=check:SplicingFactory.install-out.txt --library=/Library/Frameworks/R.framework/Resources/library --no-vignettes --timings SplicingFactory_1.15.0.tar.gz StartedAt: 2025-02-05 21:38:43 -0500 (Wed, 05 Feb 2025) EndedAt: 2025-02-05 21:39:38 -0500 (Wed, 05 Feb 2025) EllapsedTime: 54.6 seconds RetCode: 0 Status: OK CheckDir: SplicingFactory.Rcheck Warnings: 0