Package: SplicingFactory Version: 1.15.0 Command: /Library/Frameworks/R.framework/Resources/bin/R CMD INSTALL SplicingFactory StartedAt: 2025-02-05 15:05:41 -0500 (Wed, 05 Feb 2025) EndedAt: 2025-02-05 15:05:53 -0500 (Wed, 05 Feb 2025) EllapsedTime: 11.9 seconds RetCode: 0 Status: OK