Package: SplicingFactory Version: 1.15.0 Command: /home/biocbuild/R/R/bin/R CMD build --keep-empty-dirs --no-resave-data SplicingFactory StartedAt: 2025-01-28 02:41:09 -0000 (Tue, 28 Jan 2025) EndedAt: 2025-01-28 02:41:57 -0000 (Tue, 28 Jan 2025) EllapsedTime: 48.0 seconds RetCode: 0 Status: OK PackageFile: SplicingFactory_1.15.0.tar.gz PackageFileSize: 527.6 KiB