Package: SplicingFactory Version: 1.15.0 Command: /home/biocbuild/bbs-3.21-bioc/R/bin/R CMD build --keep-empty-dirs --no-resave-data SplicingFactory StartedAt: 2025-02-05 19:25:51 -0500 (Wed, 05 Feb 2025) EndedAt: 2025-02-05 19:26:25 -0500 (Wed, 05 Feb 2025) EllapsedTime: 34.0 seconds RetCode: 0 Status: OK PackageFile: SplicingFactory_1.15.0.tar.gz PackageFileSize: 755 KiB