Package: SplicingFactory Version: 1.15.0 Command: /home/biocbuild/bbs-3.21-bioc/R/bin/R CMD check --install=check:SplicingFactory.install-out.txt --library=/home/biocbuild/bbs-3.21-bioc/R/site-library --timings SplicingFactory_1.15.0.tar.gz StartedAt: 2025-02-06 03:01:29 -0500 (Thu, 06 Feb 2025) EndedAt: 2025-02-06 03:04:03 -0500 (Thu, 06 Feb 2025) EllapsedTime: 154.2 seconds RetCode: 0 Status: OK CheckDir: SplicingFactory.Rcheck Warnings: 0