Package: SplicingFactory Version: 1.15.0 Command: E:\biocbuild\bbs-3.21-bioc\R\bin\R.exe CMD check --no-multiarch --install=check:SplicingFactory.install-out.txt --library=E:\biocbuild\bbs-3.21-bioc\R\library --no-vignettes --timings SplicingFactory_1.15.0.tar.gz StartedAt: 2025-02-06 06:15:28 -0500 (Thu, 06 Feb 2025) EndedAt: 2025-02-06 06:18:21 -0500 (Thu, 06 Feb 2025) EllapsedTime: 172.5 seconds RetCode: 0 Status: OK CheckDir: SplicingFactory.Rcheck Warnings: 0