Package: SplicingFactory Version: 1.15.0 Command: E:\biocbuild\bbs-3.21-bioc\R\bin\R.exe CMD INSTALL SplicingFactory StartedAt: 2025-02-05 16:19:56 -0500 (Wed, 05 Feb 2025) EndedAt: 2025-02-05 16:20:20 -0500 (Wed, 05 Feb 2025) EllapsedTime: 24.1 seconds RetCode: 0 Status: OK