Package: SpotClean Version: 1.9.0 Maintainer: Zijian Ni MaintainerEmail: zni25 at wisc.edu git_url: https://git.bioconductor.org/packages/SpotClean git_branch: devel git_last_commit: 0e3a77e git_last_commit_date: 2024-10-29 11:11:55 -0500 (Tue, 29 Oct 2024)