Package: SpotClean Version: 1.9.0 Command: /Library/Frameworks/R.framework/Resources/bin/R CMD build --keep-empty-dirs --no-resave-data SpotClean StartedAt: 2025-02-09 17:43:24 -0500 (Sun, 09 Feb 2025) EndedAt: 2025-02-09 17:44:57 -0500 (Sun, 09 Feb 2025) EllapsedTime: 93.1 seconds RetCode: 0 Status: OK PackageFile: SpotClean_1.9.0.tar.gz PackageFileSize: 4.273 MiB