Package: SpotClean Version: 1.9.0 Command: rm -rf SpotClean.buildbin-libdir && mkdir SpotClean.buildbin-libdir && /Users/biocbuild/BBS/utils/build-universal.sh SpotClean_1.9.0.tar.gz /Library/Frameworks/R.framework/Resources/bin/R SpotClean.buildbin-libdir StartedAt: 2025-02-13 01:01:03 -0500 (Thu, 13 Feb 2025) EndedAt: 2025-02-13 01:01:57 -0500 (Thu, 13 Feb 2025) EllapsedTime: 54.5 seconds RetCode: 0 Status: OK PackageFile: SpotClean_1.9.0.tgz PackageFileSize: 4.336 MiB