Package: SpotClean Version: 1.9.0 Command: /home/biocbuild/bbs-3.21-bioc/R/bin/R CMD check --install=check:SpotClean.install-out.txt --library=/home/biocbuild/bbs-3.21-bioc/R/site-library --timings SpotClean_1.9.0.tar.gz StartedAt: 2025-02-05 03:09:10 -0500 (Wed, 05 Feb 2025) EndedAt: 2025-02-05 03:23:26 -0500 (Wed, 05 Feb 2025) EllapsedTime: 856.2 seconds RetCode: 0 Status: OK CheckDir: SpotClean.Rcheck Warnings: 0