Package: SpotClean Version: 1.9.0 Command: /home/biocbuild/bbs-3.21-bioc/R/bin/R CMD INSTALL SpotClean StartedAt: 2025-02-04 15:18:02 -0500 (Tue, 04 Feb 2025) EndedAt: 2025-02-04 15:18:39 -0500 (Tue, 04 Feb 2025) EllapsedTime: 37.2 seconds RetCode: 0 Status: OK