Package: SpotClean Version: 1.9.0 Command: rm -rf SpotClean.buildbin-libdir && mkdir SpotClean.buildbin-libdir && E:\biocbuild\bbs-3.21-bioc\R\bin\R.exe CMD INSTALL --build --library=SpotClean.buildbin-libdir SpotClean_1.9.0.tar.gz StartedAt: 2025-02-10 08:48:05 -0500 (Mon, 10 Feb 2025) EndedAt: 2025-02-10 08:48:55 -0500 (Mon, 10 Feb 2025) EllapsedTime: 50.0 seconds RetCode: 0 Status: OK PackageFile: SpotClean_1.9.0.zip PackageFileSize: 2.427 MiB