Package: SpotClean Version: 1.9.0 Command: chmod a+r SpotClean -R && E:\biocbuild\bbs-3.21-bioc\R\bin\R.exe CMD build --keep-empty-dirs --no-resave-data SpotClean StartedAt: 2025-02-09 21:53:33 -0500 (Sun, 09 Feb 2025) EndedAt: 2025-02-09 21:58:16 -0500 (Sun, 09 Feb 2025) EllapsedTime: 283.7 seconds RetCode: 0 Status: OK PackageFile: SpotClean_1.9.0.tar.gz PackageFileSize: 2.364 MiB