Package: SpotClean Version: 1.9.0 Command: E:\biocbuild\bbs-3.21-bioc\R\bin\R.exe CMD INSTALL SpotClean StartedAt: 2025-02-04 16:36:07 -0500 (Tue, 04 Feb 2025) EndedAt: 2025-02-04 16:36:57 -0500 (Tue, 04 Feb 2025) EllapsedTime: 49.5 seconds RetCode: 0 Status: OK