Package: StabMap Version: 1.1.0 Command: /Library/Frameworks/R.framework/Resources/bin/R CMD build --keep-empty-dirs --no-resave-data StabMap StartedAt: 2025-02-09 17:44:27 -0500 (Sun, 09 Feb 2025) EndedAt: 2025-02-09 17:47:08 -0500 (Sun, 09 Feb 2025) EllapsedTime: 160.8 seconds RetCode: 0 Status: OK PackageFile: StabMap_1.1.0.tar.gz PackageFileSize: 2.073 MiB