Package: StabMap Version: 1.1.0 Command: /Library/Frameworks/R.framework/Resources/bin/R CMD check --install=check:StabMap.install-out.txt --library=/Library/Frameworks/R.framework/Resources/library --no-vignettes --timings StabMap_1.1.0.tar.gz StartedAt: 2025-02-09 21:36:56 -0500 (Sun, 09 Feb 2025) EndedAt: 2025-02-09 21:38:00 -0500 (Sun, 09 Feb 2025) EllapsedTime: 63.8 seconds RetCode: 0 Status: OK CheckDir: StabMap.Rcheck Warnings: 0