Package: StabMap Version: 1.1.0 Command: /Library/Frameworks/R.framework/Resources/bin/R CMD INSTALL StabMap StartedAt: 2025-02-09 15:24:37 -0500 (Sun, 09 Feb 2025) EndedAt: 2025-02-09 15:24:45 -0500 (Sun, 09 Feb 2025) EllapsedTime: 8.4 seconds RetCode: 0 Status: OK