Package: StabMap Version: 1.1.0 Command: /home/biocbuild/R/R/bin/R CMD build --keep-empty-dirs --no-resave-data StabMap StartedAt: 2025-01-28 02:45:32 -0000 (Tue, 28 Jan 2025) EndedAt: 2025-01-28 02:51:47 -0000 (Tue, 28 Jan 2025) EllapsedTime: 375.2 seconds RetCode: 0 Status: OK PackageFile: StabMap_1.1.0.tar.gz PackageFileSize: 1.793 MiB