Package: StabMap Version: 1.1.0 Command: /home/biocbuild/R/R/bin/R CMD INSTALL StabMap StartedAt: 2025-01-29 20:27:13 -0000 (Wed, 29 Jan 2025) EndedAt: 2025-01-29 20:27:42 -0000 (Wed, 29 Jan 2025) EllapsedTime: 28.9 seconds RetCode: 0 Status: OK