Package: StabMap Version: 1.1.0 Command: rm -rf StabMap.buildbin-libdir && mkdir StabMap.buildbin-libdir && /Users/biocbuild/BBS/utils/build-universal.sh StabMap_1.1.0.tar.gz /Library/Frameworks/R.framework/Resources/bin/R StabMap.buildbin-libdir StartedAt: 2025-02-04 00:59:01 -0500 (Tue, 04 Feb 2025) EndedAt: 2025-02-04 00:59:30 -0500 (Tue, 04 Feb 2025) EllapsedTime: 29.0 seconds RetCode: 0 Status: OK PackageFile: StabMap_1.1.0.tgz PackageFileSize: 1.738 MiB