Package: StabMap Version: 1.1.0 Command: /Library/Frameworks/R.framework/Resources/bin/R CMD build --keep-empty-dirs --no-resave-data StabMap StartedAt: 2025-02-09 18:37:58 -0500 (Sun, 09 Feb 2025) EndedAt: 2025-02-09 18:44:18 -0500 (Sun, 09 Feb 2025) EllapsedTime: 380.0 seconds RetCode: 0 Status: OK PackageFile: StabMap_1.1.0.tar.gz PackageFileSize: 2.084 MiB