Package: StabMap Version: 1.1.0 Command: /home/biocbuild/bbs-3.21-bioc/R/bin/R CMD build --keep-empty-dirs --no-resave-data StabMap StartedAt: 2025-02-03 19:37:46 -0500 (Mon, 03 Feb 2025) EndedAt: 2025-02-03 19:43:40 -0500 (Mon, 03 Feb 2025) EllapsedTime: 353.8 seconds RetCode: 0 Status: OK PackageFile: StabMap_1.1.0.tar.gz PackageFileSize: 1.92 MiB